BEGIN:VCALENDAR
VERSION:2.0
PRODID:-//hacksw/handcal//NONSGML v1.0//EN
BEGIN:VEVENT
DTSTART:20221019T100000Z
DTEND:20221019T113000Z
LOCATION:
ORGANIZER;CN=Marine Homo:MAILTO:marine.homo@hecalumni.fr
SUMMARY:Webinar "Décrochez le bon poste... même si vous n'avez pas le profil idéal" - 19 octobre
DESCRIPTION:Découvrez les 9 bons réflexes des outsiders qui obtiennent le poste qu’ils ciblent.\n - Vous souhaitez changer d’univers après une belle première carrière en ligne droite ?- Vous voulez percer ou...
URL:https://www.hecalumni.fr/en/event/webinar-decrochez-le-bon-poste-meme-si-vous-n-avez-pas-le-profil-ideal-19-octobre/2022/10/19/9132
BEGIN:VALARM
TRIGGER:-P0DT1H0M0S
ACTION:DISPLAY
END:VALARM
END:VEVENT
END:VCALENDAR