BEGIN:VCALENDAR
VERSION:2.0
PRODID:-//hacksw/handcal//NONSGML v1.0//EN
BEGIN:VEVENT
DTSTART:20210406T161500Z
DTEND:20210407T190000Z
LOCATION:
ORGANIZER;CN=Mathilde Bastie-Courtois:MAILTO:mathilde.courtois@hecalumni.fr
SUMMARY:LIFE PROJECT FESTIVAL 2021 "The future of work belongs to optimists"
DESCRIPTION:« The future of work belongs to optimists »\n100% digital event\nApril 6-7, 2021 CONFERENCES – WORKSHOPS – COACHING – NETWORKING  HEC Life Project  is pleased to launch the second edition of the HEC...
URL:https://www.hecalumni.fr/en/event/life-project-festival-2021-the-future-of-work-belongs-to-optimists/2021/04/06/7444
BEGIN:VALARM
TRIGGER:-P0DT1H0M0S
ACTION:DISPLAY
END:VALARM
END:VEVENT
END:VCALENDAR