BEGIN:VCALENDAR
VERSION:2.0
PRODID:-//hacksw/handcal//NONSGML v1.0//EN
BEGIN:VEVENT
DTSTART:20201015T190000
DTEND:20201015T200000
LOCATION:
ORGANIZER;CN=Marine Homo:MAILTO:marine.homo@hecalumni.fr
SUMMARY:Webinar "Codez votre première Landing Page avec HTML/CSS" - 15 octobre
DESCRIPTION:Essentielle pour tester son product/market-fit, la landing page permet de présenter son produit, d’attirer des leads et, en plus, de collecter des données. En apprenant les bases de la programmation...
URL:https://www.hecalumni.fr/en/event/webinar-codez-votre-premiere-landing-page-avec-html-css-15-octobre/2020/10/15/6922
BEGIN:VALARM
TRIGGER:-P0DT1H0M0S
ACTION:DISPLAY
END:VALARM
END:VEVENT
END:VCALENDAR