BEGIN:VCALENDAR
VERSION:2.0
PRODID:-//hacksw/handcal//NONSGML v1.0//EN
BEGIN:VEVENT
DTSTART:20200916T143000
DTEND:20200916T170000
LOCATION:ZOOM - Chez vous
ORGANIZER;CN=Elisabeth Laverge:MAILTO:elisabeth.laverge@gmail.com
SUMMARY:Generation Share - Cercle de réflexion
DESCRIPTION:GENERATION SHARE - Génération Partage\nCercle de réflexion\nRéunion du 16 septembre à 14h30"La malédiction dans la Grèce Antique"
URL:https://www.hecalumni.fr/en/event/generation-share-cercle-de-reflexion/2020/09/16/6863
BEGIN:VALARM
TRIGGER:-P0DT1H0M0S
ACTION:DISPLAY
END:VALARM
END:VEVENT
END:VCALENDAR