BEGIN:VCALENDAR
VERSION:2.0
PRODID:-//hacksw/handcal//NONSGML v1.0//EN
BEGIN:VEVENT
DTSTART:20201127T123000
DTEND:20201127T140000
LOCATION:
ORGANIZER;CN=Marine Homo:MAILTO:marine.homo@hecalumni.fr
SUMMARY:Webinar "Manage emotions at work" - 27 November
DESCRIPTION:As humans, whether we want it or not, we bring our emotions at work.\nDepartement changes, budget cut offs, disappointments, tensions with some colleagues, intense work pressure can trigger a variety ...
URL:https://www.hecalumni.fr/en/event/webinar-manage-emotions-at-work-27-november/2020/11/27/6773
BEGIN:VALARM
TRIGGER:-P0DT1H0M0S
ACTION:DISPLAY
END:VALARM
END:VEVENT
END:VCALENDAR