BEGIN:VCALENDAR
VERSION:2.0
PRODID:-//hacksw/handcal//NONSGML v1.0//EN
BEGIN:VEVENT
DTSTART:20200828T180000
DTEND:20200830T160000
LOCATION:Chamonix-Mont-Blanc \n76, Impasse de l'Androsace \n74400 CHAMONIX-MONT-BLANC
ORGANIZER;CN=HEC Life Project:MAILTO:mailys.tokarski@hecalumni.fr
SUMMARY:Learning expedition in Chamonix : discover mountain climbing (August 28-30th)
DESCRIPTION:Booking open until July 17th\nThe meaning of mountain-climbingWhy climb mountains when you can appreciate their beauty from the valley? What are the climbers who have been surveying the highest peaks ...
URL:https://www.hecalumni.fr/en/event/learning-expedition-in-chamonix-discover-mountain-climbing-august-28-30th/2020/08/28/6766
BEGIN:VALARM
TRIGGER:-P0DT1H0M0S
ACTION:DISPLAY
END:VALARM
END:VEVENT
END:VCALENDAR