BEGIN:VCALENDAR
VERSION:2.0
PRODID:-//hacksw/handcal//NONSGML v1.0//EN
BEGIN:VEVENT
DTSTART:20200616T170000
DTEND:20200616T180000
LOCATION:
ORGANIZER;CN=Marine Homo:MAILTO:marine.homo@hecalumni.fr
SUMMARY:Webinar "Regulatory challenges and opportunities in Data-Driven digital transformation" by Prof. David Restrepo Amariles
DESCRIPTION:The restrictions enacted by governments throughout the world in response to Covid-19 has put millions of workers and consumers at home, accelerating the pace of digital transformation.Firms are facing...
URL:https://www.hecalumni.fr/en/event/webinar-regulatory-challenges-and-opportunities-in-data-driven-digital-transformation-by-prof-david-restrepo-amariles/2020/06/16/6640
BEGIN:VALARM
TRIGGER:-P0DT1H0M0S
ACTION:DISPLAY
END:VALARM
END:VEVENT
END:VCALENDAR