BEGIN:VCALENDAR
VERSION:2.0
PRODID:-//hacksw/handcal//NONSGML v1.0//EN
BEGIN:VEVENT
DTSTART:20200604T123000
DTEND:20200604T133000
LOCATION:-
ORGANIZER;CN=Marine Homo:MAILTO:marine.homo@hecalumni.fr
SUMMARY:Webinar "S'engager dans une carrière à impact positif !" - 4 juin
DESCRIPTION:\nMettre ses talents et ses compétences au service de causes utiles,\n faire avancer les grands défis de société, qu’ils soient environnementaux, humains ou sociaux,\n travailler avec des personnes...
URL:https://www.hecalumni.fr/en/event/webinar-s-engager-dans-une-carriere-a-impact-positif-4-juin/2020/06/04/6601
BEGIN:VALARM
TRIGGER:-P0DT1H0M0S
ACTION:DISPLAY
END:VALARM
END:VEVENT
END:VCALENDAR