BEGIN:VCALENDAR
VERSION:2.0
PRODID:-//hacksw/handcal//NONSGML v1.0//EN
BEGIN:VEVENT
DTSTART:20200402T170000
DTEND:20200402T180000
LOCATION:-
ORGANIZER;CN=Marine Homo:MAILTO:marine.homo@hecalumni.fr
SUMMARY:Webinar EXED "Quelle gestion financière face à la crise COVID 19 ?" par Prof. Patrick Legland - 2 Avril
DESCRIPTION:Quelle sera l’ampleur de la crise économique lié au COVID 19 ?Comment les entreprises peuvent elles s’adapter ?Quelles sont les financements ou aides disponibles ?   \nComment gérer la crise actuelle ...
URL:https://www.hecalumni.fr/en/event/webinar-exed-quelle-gestion-financiere-face-a-la-crise-covid-19-par-prof-patrick-legland-2-avril/2020/04/02/6429
BEGIN:VALARM
TRIGGER:-P0DT1H0M0S
ACTION:DISPLAY
END:VALARM
END:VEVENT
END:VCALENDAR