BEGIN:VCALENDAR
VERSION:2.0
PRODID:-//hacksw/handcal//NONSGML v1.0//EN
BEGIN:VEVENT
DTSTART:20200318T160000
DTEND:20200318T180000
LOCATION:Au Musée des Beaux-Arts \nPlace du Palais de Justice \n73000 CHAMBERY
ORGANIZER;CN=Renée Ramsay-Nicol:MAILTO:renee.ramsay-nicol@hecalumni.fr
SUMMARY:Visite guidée au Musée des Beaux-Arts de Chambéry
DESCRIPTION: Rappel : Visite guidée au Musée des Beaux-Arts de Chambéry le 18 mars Riccardo Gualino le magnifique, vie et œuvre d’un collectionneur ***RAPPEL***\nCher(e) camarade, \nNous avons réussi à caler une ...
URL:https://www.hecalumni.fr/en/event/visite-guidee-au-musee-des-beaux-arts-de-chambery/2020/03/18/6394
BEGIN:VALARM
TRIGGER:-P0DT1H0M0S
ACTION:DISPLAY
END:VALARM
END:VEVENT
END:VCALENDAR