BEGIN:VCALENDAR
VERSION:2.0
PRODID:-//hacksw/handcal//NONSGML v1.0//EN
BEGIN:VEVENT
DTSTART:20200206T190000
DTEND:20200206T200000
LOCATION:-
ORGANIZER;CN=Marine Homo:MAILTO:marine.homo@hecalumni.fr
SUMMARY:Webinar "How to connect with your next employer" - 6 February
DESCRIPTION:Most jobs are not advertised: they are filled via referrals and networks. But most of us find selling ourselves and networking uncomfortable and don’t know how to build contacts with target employers....
URL:https://www.hecalumni.fr/en/event/webinar-how-to-connect-with-your-next-employer-6-february/2020/02/06/6171
BEGIN:VALARM
TRIGGER:-P0DT1H0M0S
ACTION:DISPLAY
END:VALARM
END:VEVENT
END:VCALENDAR