BEGIN:VCALENDAR
VERSION:2.0
PRODID:-//hacksw/handcal//NONSGML v1.0//EN
BEGIN:VEVENT
DTSTART:20200309T183000
DTEND:20200309T220000
LOCATION:Comet Etoile \n20, Rue de l'Amiral Hamelin \n75116 PARIS
ORGANIZER;CN=Marine Homo:MAILTO:marine.homo@hecalumni.fr
SUMMARY:Life Project Festival - When purpose meets wellness, design your life project.
DESCRIPTION:Can I give purpose to my work?How to find a job in harmony with my valuesShould I pursue wellness at work ?The wind of "wellness" that blows through our daily professional life also comes with new...
URL:https://www.hecalumni.fr/en/event/life-project-festival-when-purpose-meets-wellness-design-your-life-project/2020/03/09/6113
BEGIN:VALARM
TRIGGER:-P0DT1H0M0S
ACTION:DISPLAY
END:VALARM
END:VEVENT
END:VCALENDAR