BEGIN:VCALENDAR
VERSION:2.0
PRODID:-//hacksw/handcal//NONSGML v1.0//EN
BEGIN:VEVENT
DTSTART:20200423T090000
DTEND:20200424T190000
LOCATION:-
ORGANIZER;CN=Marine Homo:MAILTO:marine.homo@hecalumni.fr
SUMMARY:Séminaire "Entrainement à la reprise d'entreprise" - Module 3 - 23 & 24 avril
DESCRIPTION:(Event in French)\nDo you have a vision for a company takeover? This seminar of 3 separable modules of 2 days each will allow you to know if the adventure of the takeover is made for you.\nModule 1 - ...
URL:https://www.hecalumni.fr/en/event/seminaire-entrainement-a-la-reprise-d-entreprise-module-3-23-24-avril/2020/04/23/6042
BEGIN:VALARM
TRIGGER:-P0DT1H0M0S
ACTION:DISPLAY
END:VALARM
END:VEVENT
END:VCALENDAR