BEGIN:VCALENDAR
VERSION:2.0
PRODID:-//hacksw/handcal//NONSGML v1.0//EN
BEGIN:VEVENT
DTSTART:20190710T081500
DTEND:20190710T093000
LOCATION:Pavillon Vendôme \n7, Place Vendôme \n75001 PARIS
ORGANIZER;CN=Flavia Sanches:MAILTO:flavia.sanches@hecalumni.fr
SUMMARY:MATIN HEC with Zhang Minggang - Deputy CEO France HUAWEI
DESCRIPTION:He is at the head of the number two producer of smartphones in the world after Apple, the global leader in 5G, and right now at the center of a spectacular turmoil: HEC Alumni is pleased to invite you...
URL:https://www.hecalumni.fr/en/event/matin-hec-with-zhang-minggang-deputy-ceo-france-huawei/2019/07/10/5433
BEGIN:VALARM
TRIGGER:-P0DT1H0M0S
ACTION:DISPLAY
END:VALARM
END:VEVENT
END:VCALENDAR