BEGIN:VCALENDAR
VERSION:2.0
PRODID:-//hacksw/handcal//NONSGML v1.0//EN
BEGIN:VEVENT
DTSTART:20190603T190000
DTEND:20190603T220000
LOCATION:CCI PARIS ÎLE-DE-FRANCE - Hôtel Potocki \n27, Avenue de Friedland \n75008 PARIS
ORGANIZER;CN=Alexandra Ouazan:MAILTO:alexandra.ouazan@hecalumni.fr
SUMMARY:HEC Alumni's AGM -3 June (evening)
DESCRIPTION:\nHEC Alumni’s AGM will take place in Paris on the evening of 3 June. This is a highlight in the association’s calendar and offers a great opportunity to take stock of the alumni association’s many...
URL:https://www.hecalumni.fr/en/event/hec-alumni-s-agm-3-june-evening/2019/06/03/5145
BEGIN:VALARM
TRIGGER:-P0DT1H0M0S
ACTION:DISPLAY
END:VALARM
END:VEVENT
END:VCALENDAR