BEGIN:VCALENDAR
VERSION:2.0
PRODID:-//hacksw/handcal//NONSGML v1.0//EN
BEGIN:VEVENT
DTSTART:20190913T083000
DTEND:20190913T100000
LOCATION:HEC Alumni \n9, Avenue Franklin Delano Roosevelt \n75008 PARIS
ORGANIZER;CN=Marine Homo:MAILTO:marine.homo@hecalumni.fr
SUMMARY:REPORT - Présentation du Programme Switch Collective - 13 septembre
DESCRIPTION:\nFAIS LE BILAN, C'EST QUOI ?Une aventure collective de 6 semaines pour te permettre de redonner du sens à ton parcours professionnel.Pendant 6 semaines, à raison d'une soirée par semaine et de deux...
URL:https://www.hecalumni.fr/en/event/report-presentation-du-programme-switch-collective-13-septembre/2019/09/13/5028
BEGIN:VALARM
TRIGGER:-P0DT1H0M0S
ACTION:DISPLAY
END:VALARM
END:VEVENT
END:VCALENDAR