BEGIN:VCALENDAR
VERSION:2.0
PRODID:-//hacksw/handcal//NONSGML v1.0//EN
BEGIN:VEVENT
DTSTART:20190521T190000
DTEND:20190521T230000
LOCATION:Les noces de Jeannette \n14, Rue Favart \n75002 PARIS
ORGANIZER;CN=Laurence Rolland:MAILTO:laurence.rolland@hecalumni.fr
SUMMARY:CPA78 - Célébration des 40 ans de la promo
DESCRIPTION:\nChère amie,\nCher ami,Nous serions heureux de célébrer cet événement avec toi et te prions de bien vouloir dès à présent en réserver la date sur ton agenda : \nUn diner de 19h à 23h    mardi 21 mai ...
URL:https://www.hecalumni.fr/en/event/cpa78-celebration-des-40-ans-de-la-promo/2019/05/21/4952
BEGIN:VALARM
TRIGGER:-P0DT1H0M0S
ACTION:DISPLAY
END:VALARM
END:VEVENT
END:VCALENDAR