BEGIN:VCALENDAR
VERSION:2.0
PRODID:-//hacksw/handcal//NONSGML v1.0//EN
BEGIN:VEVENT
DTSTART:20191105T183000
DTEND:20191105T213000
LOCATION:Le hub Bpifrance \n6, Boulevard Haussmann \n75009 PARIS
ORGANIZER;CN=Stéphanie Pfeiffer:MAILTO:stephanie.pfeiffer@hecalumni.fr
SUMMARY:Ptich Masterclass: 50 shades of Pitch?
DESCRIPTION:Bpifrance welcomes you to an exceptional Pitch Masterclass \non Nov 5, 2019 On November 5, 2019, attend an exceptional masterclass at Bpifrance presented by Jacques Birol (H.74), the "Pope of...
URL:https://www.hecalumni.fr/en/event/ptich-masterclass-50-shades-of-pitch/2019/11/05/4748
BEGIN:VALARM
TRIGGER:-P0DT1H0M0S
ACTION:DISPLAY
END:VALARM
END:VEVENT
END:VCALENDAR