BEGIN:VCALENDAR
VERSION:2.0
PRODID:-//hacksw/handcal//NONSGML v1.0//EN
BEGIN:VEVENT
DTSTART:20190928T093000
DTEND:20190928T173000
LOCATION:HEC Alumni \n9, Avenue Franklin Delano Roosevelt \n75008 PARIS
ORGANIZER;CN=Marine Homo:MAILTO:marine.homo@hecalumni.fr
SUMMARY:Séminaire "T'entraîner à l'entretien de recrutement" - 28 septembre
DESCRIPTION:Animatrice : Claude d’Estais (MBA 91), après un parcours RH dans des groupes internationaux et la chasse de têtes, Claude est coach et est l’auteure de « S’entrainer à l’entretien de recrutement… même...
URL:https://www.hecalumni.fr/en/event/seminaire-t-entrainer-a-l-entretien-de-recrutement-28-septembre/2019/09/28/4615
BEGIN:VALARM
TRIGGER:-P0DT1H0M0S
ACTION:DISPLAY
END:VALARM
END:VEVENT
END:VCALENDAR