BEGIN:VCALENDAR
VERSION:2.0
PRODID:-//hacksw/handcal//NONSGML v1.0//EN
BEGIN:VEVENT
DTSTART:20181128T193000
DTEND:20181128T210000
LOCATION:HEC Alumni \n9, Avenue Franklin Delano Roosevelt \n75008 PARIS
ORGANIZER;CN=Astrid Veyrat:MAILTO:astrid.veyrat@hecalumni.fr
SUMMARY:Cérémonie œcuménique à la mémoire de nos camarades HEC décédés
DESCRIPTION:\nNotre Association organise chaque année une Cérémonie du Souvenir œcuménique à la mémoire de tous nos camarades HEC décédés, et tout particulièrement de ceux qui nous ont quittés depuis un...
URL:https://www.hecalumni.fr/en/event/-ceremonie-oecumenique-a-la-memoire-de-nos-camarades-hec-decedes/2018/11/28/4567
BEGIN:VALARM
TRIGGER:-P0DT1H0M0S
ACTION:DISPLAY
END:VALARM
END:VEVENT
END:VCALENDAR