BEGIN:VCALENDAR
VERSION:2.0
PRODID:-//hacksw/handcal//NONSGML v1.0//EN
BEGIN:VEVENT
DTSTART:20181018T180000
DTEND:20181018T210000
LOCATION:French Residence \n100, Edgewood Avenue \n94117 SAN FRANCISCO
ORGANIZER;CN=Astrid Veyrat:MAILTO:foryou@hecalumni.fr
SUMMARY:HEC Alumni West Coast Gathering on Oct. 18th, 2018
DESCRIPTION:Dear HEC alumni, \nPlease save the date in your agendas for our next West Coast Annual Gathering to be held on October 18th, 2018 at the French Residence at 100 Edgewood Avenue in San...
URL:https://www.hecalumni.fr/en/event/-hec-alumni-west-coast-gathering-on-oct-18th-2018/2018/10/18/4393
BEGIN:VALARM
TRIGGER:-P0DT1H0M0S
ACTION:DISPLAY
END:VALARM
END:VEVENT
END:VCALENDAR