BEGIN:VCALENDAR
VERSION:2.0
PRODID:-//hacksw/handcal//NONSGML v1.0//EN
BEGIN:VEVENT
DTSTART:20180627T200000
DTEND:20180627T223000
LOCATION:Les Noces de Jeannette \n14, Rue Favart \n75002 PARIS
ORGANIZER;CN=Laurence Rolland:MAILTO:laurence.rolland@hecalumni.fr
SUMMARY:MBA.84 - Prochain Dîner de Promotion le mercredi 27 juin 2018
DESCRIPTION:DINER DE PROMOTION MBA.84 Avant l'été, notre prochain dîner de promo se tiendra le : Mercredi 27 juin à partir de 20 h 00 Au restaurant Les Noces de Jeannette14 rue Favart Paris 2è Au plaisir de nous ...
URL:https://www.hecalumni.fr/en/event/mba-84-prochain-diner-de-promotion-le-mercredi-27-juin-2018/2018/06/27/4226
BEGIN:VALARM
TRIGGER:-P0DT1H0M0S
ACTION:DISPLAY
END:VALARM
END:VEVENT
END:VCALENDAR