BEGIN:VCALENDAR
VERSION:2.0
PRODID:-//hacksw/handcal//NONSGML v1.0//EN
BEGIN:VEVENT
DTSTART:20180602T193000
DTEND:20180603T010000
LOCATION:Morgan Stanley \n61, Rue de Monceau \n75008 PARIS
ORGANIZER;CN=Laurence Rolland:MAILTO:laurence.rolland@hecalumni.fr
SUMMARY:H93 - NOS 25 ANS !
DESCRIPTION:\nDernier rappel pour les aveugles, amnésiques et insouciants :  \nmerci de vous inscrire au plus vite afin de faciliter\n la logistique de l’organisation et le travail de la sécurité\na l’entrée du...
URL:https://www.hecalumni.fr/en/event/h93-nos-25-ans/2018/06/02/4154
BEGIN:VALARM
TRIGGER:-P0DT1H0M0S
ACTION:DISPLAY
END:VALARM
END:VEVENT
END:VCALENDAR