BEGIN:VCALENDAR
VERSION:2.0
PRODID:-//hacksw/handcal//NONSGML v1.0//EN
BEGIN:VEVENT
DTSTART:20180918T081500
DTEND:20180918T093000
LOCATION:Salon Vendôme \n7, Place Vendôme \n75001 PARIS
ORGANIZER;CN=Caroline Demersseman:MAILTO:caroline.demersseman@hecalumni.fr
SUMMARY:MATIN HEC avec FRÉDÉRIC OUDÉA - DG - SOCIÉTÉ GÉNÉRALE
DESCRIPTION:Entré à la Société générale il y a 23 ans (et à sa tête depuis une dizaine d’année), Frédéric Oudéa possède, à seulement 55 ans, une ancienneté remarquable à la tête d’une des 10 plus grandes banques ...
URL:https://www.hecalumni.fr/en/event/matin-hec-avec-frederic-oudea-dg-societe-generale/2018/09/18/3815
BEGIN:VALARM
TRIGGER:-P0DT1H0M0S
ACTION:DISPLAY
END:VALARM
END:VEVENT
END:VCALENDAR