BEGIN:VCALENDAR
VERSION:2.0
PRODID:-//hacksw/handcal//NONSGML v1.0//EN
BEGIN:VEVENT
DTSTART:20181204T183000
DTEND:20181204T213000
LOCATION:HEC Alumni \n9, Avenue Franklin Delano Roosevelt \n75008 PARIS
ORGANIZER;CN=Marine Homo:MAILTO:marine.homo@hecalumni.fr
SUMMARY:Séminaire "L'intuition, clé de la performance" - 4 décembre
DESCRIPTION:Animateur : Jonathan Sardas (H.09), fondateur de DeRose For Leaders qui propose des formations dans plus de 10 pays. Il possède 8 ans d’expérience d’enseignement dans le développement des performances...
URL:https://www.hecalumni.fr/en/event/seminaire-l-intuition-cle-de-la-performance-4-decembre/2018/12/04/3637
BEGIN:VALARM
TRIGGER:-P0DT1H0M0S
ACTION:DISPLAY
END:VALARM
END:VEVENT
END:VCALENDAR