BEGIN:VCALENDAR
VERSION:2.0
PRODID:-//hacksw/handcal//NONSGML v1.0//EN
BEGIN:VEVENT
DTSTART:20170922T081500
DTEND:20170922T093000
LOCATION:SALON VENDOME \n7, Place Vendôme \n75001 PARIS
ORGANIZER;CN=Sophie Bonn-Cleret:MAILTO:sophie.bonn-cleret@hecalumni.fr
SUMMARY:MATIN HEC AVEC STEPHANE RICHARD - PDG - ORANGE
DESCRIPTION:\nA la tête du géant des télécoms depuis 2011, il est décrit comme l’un des plus purs produits de l’excellence à la française. Après un parcours brillant qui le conduira de l’Inspection des Finances à...
URL:https://www.hecalumni.fr/en/event/matin-hec-avec-stephane-richard-pdg-orange/2017/09/22/3137
BEGIN:VALARM
TRIGGER:-P0DT1H0M0S
ACTION:DISPLAY
END:VALARM
END:VEVENT
END:VCALENDAR