BEGIN:VCALENDAR
VERSION:2.0
PRODID:-//hacksw/handcal//NONSGML v1.0//EN
BEGIN:VEVENT
DTSTART:20170321T121500
DTEND:20170321T141500
LOCATION:Association HEC \n9, Avenue Franklin Delano Roosevelt \n75008 PARIS
ORGANIZER;CN=Hélène Saint Front (De) - HEC We&men:MAILTO:helene.desaintfront@gmail.com
SUMMARY:Personal branding: laissez votre marque !
DESCRIPTION:Atelier Personal Branding\n \nOn entend souvent des femmes dire: pour vendre les autres, je suis incroyable, pour me vendre moi-même, je suis incapable ! Et pourtant, nous avons toutes de fantastiques...
URL:https://www.hecalumni.fr/en/group/hec-we-men/287/calendar/personal-branding-laissez-votre-marque/2017/03/21/2523
BEGIN:VALARM
TRIGGER:-P0DT1H0M0S
ACTION:DISPLAY
END:VALARM
END:VEVENT
END:VCALENDAR