BEGIN:VCALENDAR
VERSION:2.0
PRODID:-//hacksw/handcal//NONSGML v1.0//EN
BEGIN:VEVENT
DTSTART:20170224T190000
DTEND:20170224T235500
LOCATION:Lido \n116 Av. des Champs-Élysées \n75008  Paris
ORGANIZER;CN=Aurelia Pietka:MAILTO:aurelia.pietka@hecalumni.fr
SUMMARY:20 ans Gala HEC
DESCRIPTION:\nLe bureau du Gala HEC est heureux de vous convier à son évènement anniversaire : \n \nLa 20e édition du Gala HEC\n Avec le spectacle du Lido « Paris Merveilles »\n \nLido de Paris, le 24 février...
URL:https://www.hecalumni.fr/en/event/20-ans-gala-hec/2017/02/24/2061
BEGIN:VALARM
TRIGGER:-P0DT1H0M0S
ACTION:DISPLAY
END:VALARM
END:VEVENT
END:VCALENDAR