BEGIN:VCALENDAR
VERSION:2.0
PRODID:-//hacksw/handcal//NONSGML v1.0//EN
BEGIN:VEVENT
DTSTART:20161128T193000
DTEND:20161128T223000
LOCATION:Hub de Bpifrance \n8, Boulevard Haussmann \n75009 PARIS-9E-ARRONDISSEMENT
ORGANIZER;CN=Claudette Couffi:MAILTO:claudette.couffi@hecalumni.fr
SUMMARY:Forum Carrières HEC "TROUVER DU SENS AU TRAVAIL"
DESCRIPTION:\nFORUM-CARRIERES\nTROUVER DU SENS AU TRAVAIL !\nVous vous posez des questions sur votre travail, vous n’êtes pas les seuls !\n \n- Open cocktail -\n \nLundi 28 novembre 2016 de 19 h 15 à 22 h 30\nHub...
URL:https://www.hecalumni.fr/en/event/forum-carrieres-hec-trouver-du-sens-au-travail/2016/11/28/1403
BEGIN:VALARM
TRIGGER:-P0DT1H0M0S
ACTION:DISPLAY
END:VALARM
END:VEVENT
END:VCALENDAR