BEGIN:VCALENDAR
VERSION:2.0
PRODID:-//hacksw/handcal//NONSGML v1.0//EN
BEGIN:VEVENT
DTSTART:20260521T073000Z
DTEND:20260521T083000Z
LOCATION:HEC UK House \n43 Parker Street  \nWC2B 5PS London
ORGANIZER;CN=Marie Normant - United Kingdom - UK:MAILTO:marie.normant@hecalumni.fr
SUMMARY:Innovation & Entrepreneurship Breakfast
DESCRIPTION:The HEC Foundation is delighted to invite you to discover the Entrepreneurship and Innovation Institute, and the projects they develop thanks to your support!Exclusive Breakfast with Inge...
URL:https://www.hecalumni.fr/en/group/united-kingdom-uk/109/calendar/innovation-entrepreneurship-breakfast/2026/05/21/13693
BEGIN:VALARM
TRIGGER:-P0DT1H0M0S
ACTION:DISPLAY
END:VALARM
END:VEVENT
END:VCALENDAR