BEGIN:VCALENDAR
VERSION:2.0
PRODID:-//hacksw/handcal//NONSGML v1.0//EN
BEGIN:VEVENT
DTSTART:20260602T063000Z
DTEND:20260602T080000Z
LOCATION:Sc po paris
ORGANIZER;CN=Christophe Nepveux - HEC Volunteers For Good  - HEC Engagés pour le Bien Commun:MAILTO:ch.nepveux@gmail.com
SUMMARY:Un tour du Monde des pratiques Bénévoles - Regards croisés
DESCRIPTION:\nEt si le bénévolat n’avait pas le même visage selon les pays ?Nous sommes heureux de relayer la réunion organisé par le cercle du Bénévolat  de Sciences Po qui propose  un véritable tour du monde...
URL:https://www.hecalumni.fr/en/group/hec-volunteers-for-good-hec-engages-pour-le-bien-commun/205/calendar/un-tour-du-monde-des-pratiques-benevoles-regards-croises/2026/06/02/13691
BEGIN:VALARM
TRIGGER:-P0DT1H0M0S
ACTION:DISPLAY
END:VALARM
END:VEVENT
END:VCALENDAR