BEGIN:VCALENDAR
VERSION:2.0
PRODID:-//hacksw/handcal//NONSGML v1.0//EN
BEGIN:VEVENT
DTSTART:20260513T170000Z
DTEND:20260513T210000Z
LOCATION:Le Bateau Phare \n3, Port de la Gare \n75013 PARIS
ORGANIZER;CN=Sarah Yarmohammadi - Jazz:MAILTO:syarmollard@gmail.com
SUMMARY:HEC Jazz Club × HEC Rock (Copie)
DESCRIPTION:Meet us at Le Bateau Phare at 7:00 pmOn Wednesday, May 13 at 7:00 pm, the HEC Jazz Club invites you to join us at Le Bateau Phare for a friendly and relaxed musical evening.This event is organized...
URL:https://www.hecalumni.fr/en/group/jazz/437/calendar/hec-jazz-club-hec-rock-copie/2026/05/13/13681
BEGIN:VALARM
TRIGGER:-P0DT1H0M0S
ACTION:DISPLAY
END:VALARM
END:VEVENT
END:VCALENDAR