BEGIN:VCALENDAR
VERSION:2.0
PRODID:-//hacksw/handcal//NONSGML v1.0//EN
BEGIN:VEVENT
DTSTART:20260526T163000Z
DTEND:20260526T193000Z
LOCATION:Cleary Gottlieb Steen & Hamilton LLP \n2, Rue Meyerbeer \n75009 PARIS
ORGANIZER;CN=Bruno Kaufmann - HEC We&men:MAILTO:bruno.kaufmann@gmail.com
SUMMARY:HEC Trajectoires – 1er Symposium « Art d'Entreprendre »
DESCRIPTION:Chemins de Femmes : Parcours Entrepreneurial\nElles créent. Elles osent. Elles avancent. Elles partagent.HEC We&men vous invite à son 1er Symposium Trajectoires, consacré à l'Art d'Entreprendre — sous...
URL:https://www.hecalumni.fr/en/group/hec-we-men/287/calendar/hec-trajectoires-1er-symposium-art-d-entreprendre/2026/05/26/13679
BEGIN:VALARM
TRIGGER:-P0DT1H0M0S
ACTION:DISPLAY
END:VALARM
END:VEVENT
END:VCALENDAR