BEGIN:VCALENDAR
VERSION:2.0
PRODID:-//hacksw/handcal//NONSGML v1.0//EN
BEGIN:VEVENT
DTSTART:20260927T120000Z
DTEND:20260929T100000Z
LOCATION:Plateau des Glières (74)
ORGANIZER;CN=Audrey Arrivetx - Gestion de Crise:MAILTO:audrey.arrivetx@gmail.com
SUMMARY:Stage Expérientiel Gestion de Crise - Montagne - Automne 2026
DESCRIPTION:STAGE EXPÉRIENTIELGESTION DE CRISEAVEC MOUNTAIN PATHDu Dimanche 27 au Mardi 29 Septembre 2026Autour d’Annecy (Plateau des Glières)\nLe stage Automne est le premier RDV du programme annuel monté entre ...
URL:https://www.hecalumni.fr/en/group/gestion-de-crise/3019/calendar/stage-experientiel-gestion-de-crise-montagne-automne-2026/2026/09/27/13675
BEGIN:VALARM
TRIGGER:-P0DT1H0M0S
ACTION:DISPLAY
END:VALARM
END:VEVENT
END:VCALENDAR