BEGIN:VCALENDAR
VERSION:2.0
PRODID:-//hacksw/handcal//NONSGML v1.0//EN
BEGIN:VEVENT
DTSTART:20260512T160000Z
DTEND:20260512T173000Z
LOCATION:ZOOM , chez vous
ORGANIZER;CN=Elisabeth Laverge - Generation Share:MAILTO:elisabeth.laverge@gmail.com
SUMMARY:GENERATION SHARE - Nouvelle visioconférence de Michel Galiana-Mingot à l'occasion de la sortie de son nouvel opus:"  DU MINÉRAL AU VIVANT - Sur Terre, la vie devait apparaître"
DESCRIPTION:GENERATION SHARE - Génération PartagePartageons nos talents!\nChers amis, nous avons le plaisir de vous proposer\nle mardi 12 mai 2026 à 18 heures\nla visioconférence de Michel...
URL:https://www.hecalumni.fr/en/group/generation-share/377/calendar/generation-share-nouvelle-visioconference-de-michel-galiana-mingot-a-l-occasion-de-la-sortie-de-son-nouvel-opus-du-mineral-au-vivant-sur-terre-la-vie-devait-apparaitre/2026/05/12/13674
BEGIN:VALARM
TRIGGER:-P0DT1H0M0S
ACTION:DISPLAY
END:VALARM
END:VEVENT
END:VCALENDAR