BEGIN:VCALENDAR
VERSION:2.0
PRODID:-//hacksw/handcal//NONSGML v1.0//EN
BEGIN:VEVENT
DTSTART:20260919T080000Z
DTEND:20260920T150000Z
LOCATION:Avignon \n84000 AVIGNON
ORGANIZER;CN=Laurence Rolland - Parcs et Jardins - Parks & Gardens:MAILTO:laurence.rolland@hecalumni.fr
SUMMARY:Une parenthèse provençale au cœur de jardins d’exception - 19 & 20 septembre 2026
DESCRIPTION:📅 19 & 20 septembre 2026Et si vous vous offriez une parenthèse hors du temps ?Pendant deux jours, laissez-vous porter à travers une sélection exceptionnelle de jardins remarquables, entre Avignon et...
URL:https://www.hecalumni.fr/en/group/parcs-et-jardins-parks-gardens/2703/calendar/une-parenthese-provencale-au-coeur-de-jardins-d-exception-19-20-septembre-2026/2026/09/19/13657
BEGIN:VALARM
TRIGGER:-P0DT1H0M0S
ACTION:DISPLAY
END:VALARM
END:VEVENT
END:VCALENDAR