BEGIN:VCALENDAR
VERSION:2.0
PRODID:-//hacksw/handcal//NONSGML v1.0//EN
BEGIN:VEVENT
DTSTART:20260430T101500Z
DTEND:20260430T121500Z
LOCATION:Complices \n35, Route de Notre Dame \n06330 ROQUEFORT-LES-PINS
ORGANIZER;CN=Thien Lan Weber - Côte d'Azur:MAILTO:thienlan.weber@gmail.com
SUMMARY:Déjeuner mensuel Jeudi 30 Avril Roquefort les Pins
DESCRIPTION:Déjeuner mensuel le Jeudi 30 Avril (pour cause de jour fériés les vendredis de Mai)\nRestaurant Complices à Roquefort Les Pins, nouveau lieu de partage, de cuisine et de rencontre, de l'équipe des...
URL:https://www.hecalumni.fr/en/group/cote-d-azur/53/calendar/dejeuner-mensuel-jeudi-30-avril-roquefort-les-pins/2026/04/30/13651
BEGIN:VALARM
TRIGGER:-P0DT1H0M0S
ACTION:DISPLAY
END:VALARM
END:VEVENT
END:VCALENDAR