BEGIN:VCALENDAR
VERSION:2.0
PRODID:-//hacksw/handcal//NONSGML v1.0//EN
BEGIN:VEVENT
DTSTART:20260502T070000Z
DTEND:20260502T180000Z
LOCATION:Château de Sourches \n72240 Saint-Symphorien
ORGANIZER;CN=Louis De La Bouillerie - Parcs et Jardins - Parks & Gardens:MAILTO:louisdelabouillerie@yahoo.fr
SUMMARY:Une journée autour de la Pivoine dans la Sarthe
DESCRIPTION:10h00 : Conservatoire de la Pivoine, au Château de SourchesNiché dans les douves du Château de Sourches, le Conservatoire de la Pivoine réunit la plus grande collection de pivoines au monde, avec plus...
URL:https://www.hecalumni.fr/en/group/parcs-et-jardins-parks-gardens/2703/calendar/une-journee-autour-de-la-pivoine-dans-la-sarthe/2026/05/02/13624
BEGIN:VALARM
TRIGGER:-P0DT1H0M0S
ACTION:DISPLAY
END:VALARM
END:VEVENT
END:VCALENDAR