BEGIN:VCALENDAR
VERSION:2.0
PRODID:-//hacksw/handcal//NONSGML v1.0//EN
BEGIN:VEVENT
DTSTART:20260421T080000Z
DTEND:20260421T100000Z
LOCATION:A l'Association et par ZOOM \n9 avenue F.D. Roosevelt \n75008 Paris
ORGANIZER;CN=Elisabeth Laverge - Generation Share:MAILTO:elisabeth.laverge@gmail.com
SUMMARY:GENERATION SHARE - Cercle historique - La Riche Histoire du Piémont
DESCRIPTION:GENERATION SHARE - Génération PartagePartageons nos talents!\nBonjour, chers amis!\n Nous sommes heureux d'accueillir, pour notre\nCercle Historique,\n notre camarade,  Jacques-André LESNARD,\nle 21...
URL:https://www.hecalumni.fr/en/group/generation-share/377/calendar/generation-share-cercle-historique-la-riche-histoire-du-piemont/2026/04/21/13617
BEGIN:VALARM
TRIGGER:-P0DT1H0M0S
ACTION:DISPLAY
END:VALARM
END:VEVENT
END:VCALENDAR