BEGIN:VCALENDAR
VERSION:2.0
PRODID:-//hacksw/handcal//NONSGML v1.0//EN
BEGIN:VEVENT
DTSTART:20260428T170000Z
DTEND:20260428T200000Z
LOCATION:The People - Strasbourg Krutenau \n7, Rue de la Krutenau \n67000 STRASBOURG
ORGANIZER;CN=Marie Delassus - Alsace:MAILTO:delassus.marie@gmail.com
SUMMARY:Afterwork - Rencontre avec Alsace Business Angels
DESCRIPTION:Chers alumni,\nConnaissez-vous Alsace Business Angels ? Le réseau des investisseurs alsaciens depuis 2006 vient à notre rencontre à l'occasion de notre prochain afterwork.\nRDV mardi 28 avril à 19h au...
URL:https://www.hecalumni.fr/en/group/alsace/41/calendar/afterwork-rencontre-avec-alsace-business-angels/2026/04/28/13610
BEGIN:VALARM
TRIGGER:-P0DT1H0M0S
ACTION:DISPLAY
END:VALARM
END:VEVENT
END:VCALENDAR