BEGIN:VCALENDAR
VERSION:2.0
PRODID:-//hacksw/handcal//NONSGML v1.0//EN
BEGIN:VEVENT
DTSTART:20260414T120000Z
DTEND:20260414T150000Z
LOCATION:Académie des Sciences \n23, Quai de Conti \n75006 PARIS
ORGANIZER;CN=Isabelle Dion - SANTE - HEALTH:MAILTO:isabellecdion@orange.fr
SUMMARY:CHIMIE ET NUCLEAIRE : RADIONUCLEIDES ET MATIERE RADIOACTIVE
DESCRIPTION:A noter dans vos agendas !Les membres d'HEC Santé sont conviés à la conférence CHIMIE ET NUCLEAIRE : RADIONUCLEIDES ET MATIERE RADIOACTIVE que propose l'Académie des Sciences mardi 14 avril 2026, de...
URL:https://www.hecalumni.fr/en/group/sante-health/187/calendar/chimie-et-nucleaire-radionucleides-et-matiere-radioactive/2026/04/14/13607
BEGIN:VALARM
TRIGGER:-P0DT1H0M0S
ACTION:DISPLAY
END:VALARM
END:VEVENT
END:VCALENDAR