BEGIN:VCALENDAR
VERSION:2.0
PRODID:-//hacksw/handcal//NONSGML v1.0//EN
BEGIN:VEVENT
DTSTART:20260416T163000Z
DTEND:20260416T200000Z
LOCATION:ASSOCIATION HEC \n9, Avenue Franklin Delano Roosevelt \n75008 Paris
ORGANIZER;CN=Frédéric Milgrom - Agroalimentaire - Food and Beverage industry:MAILTO:frederic.milgrom@gmail.com
SUMMARY:Santé et alimentation: quand l’agroalimentaire devient acteur du changement
DESCRIPTION:Cycle Nutrition du HEC Alumni Agroalimentaire : Conférence n°3, 16 avril 2026---\nAprès avoir exploré les liens entre nutrition et santé, puis les transformations induites par les nouvelles approches ...
URL:https://www.hecalumni.fr/en/group/agroalimentaire-food-and-beverage-industry/349/calendar/sante-et-alimentation-quand-l-agroalimentaire-devient-acteur-du-changement/2026/04/16/13603
BEGIN:VALARM
TRIGGER:-P0DT1H0M0S
ACTION:DISPLAY
END:VALARM
END:VEVENT
END:VCALENDAR