BEGIN:VCALENDAR
VERSION:2.0
PRODID:-//hacksw/handcal//NONSGML v1.0//EN
BEGIN:VEVENT
DTSTART:20260414T160000Z
DTEND:20260414T190000Z
LOCATION:The University of Chicago John W. Boyer Center in Paris  \n41, Rue des Grands Moulins \n75013 PARIS
ORGANIZER;CN=Christophe Nepveux - HEC Volunteers For Good  - HEC Engagés pour le Bien Commun:MAILTO:ch.nepveux@gmail.com
SUMMARY:Les horloges biologiques, nouvelle dimension de la santé
DESCRIPTION:\nDécouvre la médecine circadienne, une avancée majeure pour l'efficacité des soins\nLa médecine circadienne (ou chrono-médecine) est une révolution en marche avec un Prix Nobel et près de 200...
URL:https://www.hecalumni.fr/en/group/hec-volunteers-for-good-hec-engages-pour-le-bien-commun/205/calendar/les-horloges-biologiques-nouvelle-dimension-de-la-sante/2026/04/14/13599
BEGIN:VALARM
TRIGGER:-P0DT1H0M0S
ACTION:DISPLAY
END:VALARM
END:VEVENT
END:VCALENDAR