BEGIN:VCALENDAR
VERSION:2.0
PRODID:-//hacksw/handcal//NONSGML v1.0//EN
BEGIN:VEVENT
DTSTART:20260421T170000Z
DTEND:20260421T200000Z
LOCATION:BayFrance \n21, Barer Straße \n80333 MUNCHEN
ORGANIZER;CN=Claire Staudenmayer - Germany:MAILTO:claire@staudenmayer.name
SUMMARY:MUNICH 21.04: Conference with Alexandre Vulic, Consul General of France
DESCRIPTION:Dear Alumni,\nWe are delighted to invite you to a new conference featuring Alexandre Vulic, Consul General of France in Munich (Sciences Po 1994), on the topic:“Can the new phase of French-German...
URL:https://www.hecalumni.fr/en/group/germany/141/calendar/munich-21-04-conference-with-alexandre-vulic-consul-general-of-france/2026/04/21/13588
BEGIN:VALARM
TRIGGER:-P0DT1H0M0S
ACTION:DISPLAY
END:VALARM
END:VEVENT
END:VCALENDAR