BEGIN:VCALENDAR
VERSION:2.0
PRODID:-//hacksw/handcal//NONSGML v1.0//EN
BEGIN:VEVENT
DTSTART:20260407T163000Z
DTEND:20260407T190000Z
LOCATION:Hôtel de l'Industrie \n4, Place Saint-Germain des Prés \n75006 PARIS
ORGANIZER;CN=Diep Phuong Vasseux - HEC We&men:MAILTO:diep-phuong.vasseux@wanadoo.fr
SUMMARY:Women Speed Networking Avril 2026
DESCRIPTION:Women Speed NetworkingMardi 7 avril 2026 de 18h30 à 21h Hôtel de l’Industrie, Salle Chaptal4, place Saint Germain des Prés - 75006 Paris Women Speed Networking SciencesPo Femme & Société - HEC We&Men ...
URL:https://www.hecalumni.fr/en/group/hec-we-men/287/calendar/women-speed-networking-avril-2026/2026/04/07/13585
BEGIN:VALARM
TRIGGER:-P0DT1H0M0S
ACTION:DISPLAY
END:VALARM
END:VEVENT
END:VCALENDAR