BEGIN:VCALENDAR
VERSION:2.0
PRODID:-//hacksw/handcal//NONSGML v1.0//EN
BEGIN:VEVENT
DTSTART:20260424T080000Z
DTEND:20260424T143000Z
LOCATION:UNESCO Headquarters \n7, Place de Fontenoy \n75007 PARIS
ORGANIZER;CN=Isabelle Dion - SANTE - HEALTH:MAILTO:isabellecdion@orange.fr
SUMMARY:DOPAGE ET PRATIQUES DOPANTES EN MILIEU SPORTIF
DESCRIPTION:\nA vos agendas !Les membres d'HEC Santé sont invités à la journée d'échanges DOPAGE ET PRATIQUES DOPANTES EN MILIEU SPORTIFcoorganisée en présentiel et en distanciel par l'Inserm et...
URL:https://www.hecalumni.fr/en/group/sante-health/187/calendar/dopage-et-pratiques-dopantes-en-milieu-sportif/2026/04/24/13579
BEGIN:VALARM
TRIGGER:-P0DT1H0M0S
ACTION:DISPLAY
END:VALARM
END:VEVENT
END:VCALENDAR