BEGIN:VCALENDAR
VERSION:2.0
PRODID:-//hacksw/handcal//NONSGML v1.0//EN
BEGIN:VEVENT
DTSTART:20260331T140000Z
DTEND:20260331T153000Z
LOCATION:https://us02web.zoom.us/j/86042001317?pwd=0x7uIkGOYlVgt8l2WfyzIxZh9o4Ga4.1
ORGANIZER;CN=Jan Frederik Debets - Angels:MAILTO:jan_debets@hotmail.com
SUMMARY:Exclusive Online Pitch Event – 4 Handpicked Startups (March 31)
DESCRIPTION:Webinar access code 860 4200 1317 Code : 696370...
URL:https://www.hecalumni.fr/en/group/angels/353/calendar/exclusive-online-pitch-event-4-handpicked-startups-march-31/2026/03/31/13576
BEGIN:VALARM
TRIGGER:-P0DT1H0M0S
ACTION:DISPLAY
END:VALARM
END:VEVENT
END:VCALENDAR