BEGIN:VCALENDAR
VERSION:2.0
PRODID:-//hacksw/handcal//NONSGML v1.0//EN
BEGIN:VEVENT
DTSTART:20260323T133000Z
DTEND:20260323T170000Z
LOCATION:Théâtre Marigny \nCarré Marigny \n75008 PARIS
ORGANIZER;CN=Isabelle Dion - HUB SANTE - HEALTH HUB:MAILTO:isabellecdion@orange.fr
SUMMARY:APPRENDRE ET SE FORMER A L'ERE DE L'IA
DESCRIPTION:- complet - \nL'Express organise lundi 23 mars 2026 au Théâtre Marigny, dans le cadre de son Colloque Education, une demi-journée sur le thème APPRENDRE ET SE FORMER A L'ERE DE L'IAVous êtes tous...
URL:https://www.hecalumni.fr/en/group/hub-sante-health-hub/393/calendar/apprendre-et-se-former-a-l-ere-de-l-ia/2026/03/23/13557
BEGIN:VALARM
TRIGGER:-P0DT1H0M0S
ACTION:DISPLAY
END:VALARM
END:VEVENT
END:VCALENDAR