BEGIN:VCALENDAR
VERSION:2.0
PRODID:-//hacksw/handcal//NONSGML v1.0//EN
BEGIN:VEVENT
DTSTART:20260325T180000Z
DTEND:20260325T210000Z
LOCATION:Hilton Paris Opéra \n108, Rue Saint-Lazare \n75008 PARIS
ORGANIZER;CN=Laurent Blondeau - Experts et Consultants Indépendants - Independants Experts and Consultants:MAILTO:lbuzzedin@gmail.com
SUMMARY:Afterwork indépendants et consultants
DESCRIPTION:\nLe club des Experts et Consultants Indépendants HEC est ravi de vous inviter au premier afterwork convivial de l’année 2026, au cœur de Paris.\nCet événement sera l’occasion d’échanger entre alumni ...
URL:https://www.hecalumni.fr/en/group/experts-et-consultants-independants-independants-experts-and-consultants/2702/calendar/afterwork-independants-et-consultants/2026/03/25/13542
BEGIN:VALARM
TRIGGER:-P0DT1H0M0S
ACTION:DISPLAY
END:VALARM
END:VEVENT
END:VCALENDAR