BEGIN:VCALENDAR
VERSION:2.0
PRODID:-//hacksw/handcal//NONSGML v1.0//EN
BEGIN:VEVENT
DTSTART:20260420T170000Z
DTEND:20260420T193000Z
LOCATION:Léonard Paris \n6, Place du Colonel Bourgoin \n75012 PARIS
ORGANIZER;CN=Philippe Musialek - Immobilier et Urbanisme - Real Estate and Urban Planning:MAILTO:philippe.musialek@me.com
SUMMARY:20 avril 2026 : IA et Professionnels de l'immobilier - Quels cas d'usage
DESCRIPTION:IA et Professionnels de l'immobilier - Quels cas d'usage ?Ou comment utiliser l'IA concrètement dans une PME, une start-up, un cabinet ou un grand groupe ?\n Lundi 20 avril 2026 à 19h00Lieu : LEONARD ...
URL:https://www.hecalumni.fr/en/group/immobilier-et-urbanisme-real-estate-and-urban-planning/179/calendar/20-avril-2026-ia-et-professionnels-de-l-immobilier-quels-cas-d-usage/2026/04/20/13537
BEGIN:VALARM
TRIGGER:-P0DT1H0M0S
ACTION:DISPLAY
END:VALARM
END:VEVENT
END:VCALENDAR